BEGIN:VCALENDAR
VERSION:2.0
PRODID:icalendar-ruby
CALSCALE:GREGORIAN
BEGIN:VEVENT
DTSTAMP:20260420T234426Z
UID:518d5cb9-e026-4841-b6bf-057f286a70ba
DTSTART;VALUE=DATE:20210203
DESCRIPTION:Property ID# 499452\, Locatoin: Harcourts Paremata @ 1pm\, Time
 : 1:00PM
SUMMARY:Auction for 
END:VEVENT
END:VCALENDAR
