BEGIN:VCALENDAR
VERSION:2.0
PRODID:icalendar-ruby
CALSCALE:GREGORIAN
BEGIN:VEVENT
DTSTAMP:20260420T164603Z
UID:d88a0392-4e40-4f7f-92b7-065f84966f5f
DTSTART;VALUE=DATE:20260414
DESCRIPTION:Property ID# 605155\, Locatoin: Ray White Wellington City Level
  1\,77 Thorndon Quay\, Thorndon\, Time: 2:00PM
SUMMARY:Auction for 19 Churton Drive
END:VEVENT
END:VCALENDAR
